BEGIN:VCALENDAR
VERSION:2.0
PRODID:-//Poppi Seed Market - ECPv6.15.18//NONSGML v1.0//EN
CALSCALE:GREGORIAN
METHOD:PUBLISH
X-WR-CALNAME:Poppi Seed Market
X-ORIGINAL-URL:https://www.poppiseedmarket.com
X-WR-CALDESC:Events for Poppi Seed Market
REFRESH-INTERVAL;VALUE=DURATION:PT1H
X-Robots-Tag:noindex
X-PUBLISHED-TTL:PT1H
BEGIN:VTIMEZONE
TZID:America/Los_Angeles
BEGIN:DAYLIGHT
TZOFFSETFROM:-0800
TZOFFSETTO:-0700
TZNAME:PDT
DTSTART:20240310T100000
END:DAYLIGHT
BEGIN:STANDARD
TZOFFSETFROM:-0700
TZOFFSETTO:-0800
TZNAME:PST
DTSTART:20241103T090000
END:STANDARD
BEGIN:DAYLIGHT
TZOFFSETFROM:-0800
TZOFFSETTO:-0700
TZNAME:PDT
DTSTART:20250309T100000
END:DAYLIGHT
BEGIN:STANDARD
TZOFFSETFROM:-0700
TZOFFSETTO:-0800
TZNAME:PST
DTSTART:20251102T090000
END:STANDARD
BEGIN:DAYLIGHT
TZOFFSETFROM:-0800
TZOFFSETTO:-0700
TZNAME:PDT
DTSTART:20260308T100000
END:DAYLIGHT
BEGIN:STANDARD
TZOFFSETFROM:-0700
TZOFFSETTO:-0800
TZNAME:PST
DTSTART:20261101T090000
END:STANDARD
END:VTIMEZONE
BEGIN:VEVENT
DTSTART;TZID=America/Los_Angeles:20250318T100000
DTEND;TZID=America/Los_Angeles:20250318T113000
DTSTAMP:20260421T014320
CREATED:20250319T223751Z
LAST-MODIFIED:20250319T223751Z
UID:31235-1742292000-1742297400@www.poppiseedmarket.com
SUMMARY:Princess Play Date
DESCRIPTION:Join us on the patio for our “Little Princess” play date with our friends The Little Sensory Box Co! \nShe’ll have her sensory bins out for some fun along with her Build-Your-Own Sensory Box Bar where your child can customize their own sensory box to take home! \nWe’ll also have treats and a photo opp for you and your littles to capture some memories\, plus a visit from a special guest. \nEach ticket includes a trip to the BYOBox bar and treats.
URL:https://www.poppiseedmarket.com/event/princess-play-date/
LOCATION:Poppi Seed Market\, 6432 Irvine Blvd\, Irvine\, 92620\, United States
CATEGORIES:Coffee,Maker Pop-in
ATTACH;FMTTYPE=image/png:https://www.poppiseedmarket.com/wp-content/uploads/2025/03/little-princess-play-date_post.png
END:VEVENT
END:VCALENDAR